BEGIN:VCALENDAR
VERSION:2.0
PRODID:-//Shared Legacy - ECPv6.0.6.2//NONSGML v1.0//EN
CALSCALE:GREGORIAN
METHOD:PUBLISH
X-WR-CALNAME:Shared Legacy
X-ORIGINAL-URL:https://sharedlegacymb.ca
X-WR-CALDESC:Events for Shared Legacy
REFRESH-INTERVAL;VALUE=DURATION:PT1H
X-Robots-Tag:noindex
X-PUBLISHED-TTL:PT1H
BEGIN:VTIMEZONE
TZID:America/Winnipeg
BEGIN:DAYLIGHT
TZOFFSETFROM:-0600
TZOFFSETTO:-0500
TZNAME:CDT
DTSTART:20230312T080000
END:DAYLIGHT
BEGIN:STANDARD
TZOFFSETFROM:-0500
TZOFFSETTO:-0600
TZNAME:CST
DTSTART:20231105T070000
END:STANDARD
END:VTIMEZONE
BEGIN:VEVENT
DTSTART;TZID=America/Winnipeg:20230701T130000
DTEND;TZID=America/Winnipeg:20230701T140000
DTSTAMP:20260421T173140
CREATED:20230621T165741Z
LAST-MODIFIED:20230621T181036Z
UID:10000024-1688216400-1688220000@sharedlegacymb.ca
SUMMARY:Tall-grass Prairie Tour
DESCRIPTION:Visit the only place in Canada to see the Western Prairie Fringed Orchid \n\nJoin a free\, guided tour of the tall-grass prairie to view western prairie fringed orchid and many other native flora\nWhen? July 1st\, 1pm-2pm & 4pm-5pm\nWhere? Agassiz Interpretive Trail\, 7km West of Vita on #201\nContact Norm Gregoire for more details  info@sharedlegacymb.ca  204 408 6166\n\n \n 
URL:https://sharedlegacymb.ca/event/tall-grass-prairie-tour/2023-07-01/
LOCATION:Agassiz Interpretive Trail\, Stuartburn\, Manitoba\, Canada
CATEGORIES:Outdoors Activity
ATTACH;FMTTYPE=image/jpeg:https://sharedlegacymb.ca/wp-content/uploads/2022/12/wpfo-Lysandra-Pyle-via-inaturalist.jpg
ORGANIZER;CN="Norm%20Gregoire":MAILTO:info@sharedlegacymb.ca
END:VEVENT
BEGIN:VEVENT
DTSTART;TZID=America/Winnipeg:20230701T160000
DTEND;TZID=America/Winnipeg:20230701T170000
DTSTAMP:20260421T173140
CREATED:20230621T165741Z
LAST-MODIFIED:20230621T181036Z
UID:10000025-1688227200-1688230800@sharedlegacymb.ca
SUMMARY:Tall-grass Prairie Tour
DESCRIPTION:Visit the only place in Canada to see the Western Prairie Fringed Orchid \n\nJoin a free\, guided tour of the tall-grass prairie to view western prairie fringed orchid and many other native flora\nWhen? July 1st\, 1pm-2pm & 4pm-5pm\nWhere? Agassiz Interpretive Trail\, 7km West of Vita on #201\nContact Norm Gregoire for more details  info@sharedlegacymb.ca  204 408 6166\n\n \n 
URL:https://sharedlegacymb.ca/event/tall-grass-prairie-tour/2023-07-01/
LOCATION:Agassiz Interpretive Trail\, Stuartburn\, Manitoba\, Canada
CATEGORIES:Outdoors Activity
ATTACH;FMTTYPE=image/jpeg:https://sharedlegacymb.ca/wp-content/uploads/2022/12/wpfo-Lysandra-Pyle-via-inaturalist.jpg
ORGANIZER;CN="Norm%20Gregoire":MAILTO:info@sharedlegacymb.ca
END:VEVENT
END:VCALENDAR