BEGIN:VCALENDAR
VERSION:2.0
PRODID:-//Shared Legacy - ECPv6.0.6.2//NONSGML v1.0//EN
CALSCALE:GREGORIAN
METHOD:PUBLISH
X-ORIGINAL-URL:https://sharedlegacymb.ca
X-WR-CALDESC:Events for Shared Legacy
REFRESH-INTERVAL;VALUE=DURATION:PT1H
X-Robots-Tag:noindex
X-PUBLISHED-TTL:PT1H
BEGIN:VTIMEZONE
TZID:America/Winnipeg
BEGIN:DAYLIGHT
TZOFFSETFROM:-0600
TZOFFSETTO:-0500
TZNAME:CDT
DTSTART:20240310T080000
END:DAYLIGHT
BEGIN:STANDARD
TZOFFSETFROM:-0500
TZOFFSETTO:-0600
TZNAME:CST
DTSTART:20241103T070000
END:STANDARD
END:VTIMEZONE
BEGIN:VEVENT
DTSTART;TZID=America/Winnipeg:20240511T080000
DTEND;TZID=America/Winnipeg:20240511T100000
DTSTAMP:20260419T130308
CREATED:20240501T195143Z
LAST-MODIFIED:20240501T195143Z
UID:10000032-1715414400-1715421600@sharedlegacymb.ca
SUMMARY:Adventures with Nature Norm - World Migratory Bird Day
DESCRIPTION:Join us on Adventures with Nature Norm as we celebrate World Migratory Bird Day. All bird lovers are welcome\, whether you are an avid birder or just a beginner. You will be provided a pair of binoculars and a set of walking sticks to use during the event (limited supplies). And it’s FREE! \nThis program has been sponsored by Southern Health-Sante Sud Public Health\, Healthy Living and Healthy Together Now funding. \n  \n \n 
URL:https://sharedlegacymb.ca/event/adventures-with-nature-norm-world-migratory-bird-day/2024-05-11/
LOCATION:Agassiz Interpretive Trail\, Stuartburn\, Manitoba\, Canada
CATEGORIES:Outdoors Activity
ATTACH;FMTTYPE=image/jpeg:https://sharedlegacymb.ca/wp-content/uploads/2024/05/Adventures-with-Nature-Norm-May-2024.jpg
ORGANIZER;CN="Norm%20Gregoire":MAILTO:info@sharedlegacymb.ca
END:VEVENT
BEGIN:VEVENT
DTSTART;TZID=America/Winnipeg:20240511T100000
DTEND;TZID=America/Winnipeg:20240511T120000
DTSTAMP:20260419T130308
CREATED:20240501T195143Z
LAST-MODIFIED:20240501T195143Z
UID:10000033-1715421600-1715428800@sharedlegacymb.ca
SUMMARY:Adventures with Nature Norm - World Migratory Bird Day
DESCRIPTION:Join us on Adventures with Nature Norm as we celebrate World Migratory Bird Day. All bird lovers are welcome\, whether you are an avid birder or just a beginner. You will be provided a pair of binoculars and a set of walking sticks to use during the event (limited supplies). And it’s FREE! \nThis program has been sponsored by Southern Health-Sante Sud Public Health\, Healthy Living and Healthy Together Now funding. \n  \n \n 
URL:https://sharedlegacymb.ca/event/adventures-with-nature-norm-world-migratory-bird-day/2024-05-11/
LOCATION:Agassiz Interpretive Trail\, Stuartburn\, Manitoba\, Canada
CATEGORIES:Outdoors Activity
ATTACH;FMTTYPE=image/jpeg:https://sharedlegacymb.ca/wp-content/uploads/2024/05/Adventures-with-Nature-Norm-May-2024.jpg
ORGANIZER;CN="Norm%20Gregoire":MAILTO:info@sharedlegacymb.ca
END:VEVENT
END:VCALENDAR