BEGIN:VCALENDAR
VERSION:2.0
PRODID:-//Shared Legacy - ECPv6.0.6.2//NONSGML v1.0//EN
CALSCALE:GREGORIAN
METHOD:PUBLISH
X-ORIGINAL-URL:https://sharedlegacymb.ca
X-WR-CALDESC:Events for Shared Legacy
REFRESH-INTERVAL;VALUE=DURATION:PT1H
X-Robots-Tag:noindex
X-PUBLISHED-TTL:PT1H
BEGIN:VTIMEZONE
TZID:America/Winnipeg
BEGIN:DAYLIGHT
TZOFFSETFROM:-0600
TZOFFSETTO:-0500
TZNAME:CDT
DTSTART:20230312T080000
END:DAYLIGHT
BEGIN:STANDARD
TZOFFSETFROM:-0500
TZOFFSETTO:-0600
TZNAME:CST
DTSTART:20231105T070000
END:STANDARD
END:VTIMEZONE
BEGIN:VEVENT
DTSTART;VALUE=DATE:20230214
DTEND;VALUE=DATE:20230215
DTSTAMP:20260421T110409
CREATED:20230119T210922Z
LAST-MODIFIED:20230119T211548Z
UID:10000007-1676332800-1676419199@sharedlegacymb.ca
SUMMARY:Valentine's Day
DESCRIPTION:This Valentine’s Day\, show your family or friends some love by inviting them to enjoy the great outdoors with you. The Nature Conservancy of Canada’s Agassiz Interpretive Trail in Sunrise Corner is the perfect place to go. Once you’ve walked or snowshoed the trail\, drive to nearby Vita for a hot chocolate or enjoy one of the Valentine’s Day meal specials at the Vita Hotel. \nLearn more >
URL:https://sharedlegacymb.ca/event/valentines-day/
LOCATION:Manitoba
CATEGORIES:Appreciation Day
ATTACH;FMTTYPE=image/png:https://sharedlegacymb.ca/wp-content/uploads/2023/01/Website-Events-2023-5.png
END:VEVENT
END:VCALENDAR