BEGIN:VCALENDAR
VERSION:2.0
PRODID:-//Shared Legacy - ECPv6.0.6.2//NONSGML v1.0//EN
CALSCALE:GREGORIAN
METHOD:PUBLISH
X-WR-CALNAME:Shared Legacy
X-ORIGINAL-URL:https://sharedlegacymb.ca
X-WR-CALDESC:Events for Shared Legacy
REFRESH-INTERVAL;VALUE=DURATION:PT1H
X-Robots-Tag:noindex
X-PUBLISHED-TTL:PT1H
BEGIN:VTIMEZONE
TZID:America/Winnipeg
BEGIN:DAYLIGHT
TZOFFSETFROM:-0600
TZOFFSETTO:-0500
TZNAME:CDT
DTSTART:20250309T080000
END:DAYLIGHT
BEGIN:STANDARD
TZOFFSETFROM:-0500
TZOFFSETTO:-0600
TZNAME:CST
DTSTART:20251102T070000
END:STANDARD
END:VTIMEZONE
BEGIN:VEVENT
DTSTART;TZID=America/Winnipeg:20250510T100000
DTEND;TZID=America/Winnipeg:20250510T120000
DTSTAMP:20260419T164243
CREATED:20250428T153648Z
LAST-MODIFIED:20250428T153938Z
UID:10000059-1746871200-1746878400@sharedlegacymb.ca
SUMMARY:Adventures with Nature Norm - World Migratory Bird Day
DESCRIPTION:Join us on Adventures with Nature Norm for a morning of celebrating migratory birds in the tall-grass prairie while enjoying the great outdoors. You will be provided a pair of binoculars and a set of walking sticks to use during the event (limited supplies). And it’s FREE! \nThis program has been sponsored by Southern Health-Sante Sud Public Health\, Healthy Living and Healthy Together Now funding. \n \n  \n  \n 
URL:https://sharedlegacymb.ca/event/adventures-with-nature-norm-migratory-bird-day/
LOCATION:Weston Family Tall Grass Prairie Interpretive Centre\, Stuartburn\, Manitoba\, Canada
CATEGORIES:Outdoors Activity
ATTACH;FMTTYPE=image/jpeg:https://sharedlegacymb.ca/wp-content/uploads/2025/04/migratory-birds.jpg
ORGANIZER;CN="Norm%20Gregoire":MAILTO:info@sharedlegacymb.ca
END:VEVENT
BEGIN:VEVENT
DTSTART;VALUE=DATE:20250512
DTEND;VALUE=DATE:20250517
DTSTAMP:20260419T164243
CREATED:20250225T145332Z
LAST-MODIFIED:20250401T154427Z
UID:10000054-1747008000-1747439999@sharedlegacymb.ca
SUMMARY:Manitoba Tall Grass Prairie & Aspen Parkland Prescribed Fire Exchange (TREX)
DESCRIPTION:Nature Conservancy of Canada has teamed up with Canadian Prairies Prescribed Fire Exchange to organize the 3rd Manitoba Tall Grass Prairie & Aspen Parkland Prescribed Fire Exchange (TREX) from May 12-16\, 2025 in Stuartburn\, Manitoba. \nWe’re currently accepting applications for participants! Please register no later than March 21\, 2025. \n\nView the full training announcement: https://www.grasslandfire.ca/…/2025-MB-TREX-Training…\nApply here: https://forms.gle/RCTjeZpCC5yFXd15A
URL:https://sharedlegacymb.ca/event/manitoba-tall-grass-prairie-aspen-parkland-prescribed-fire-exchange-trex/
LOCATION:Rural Municipality of Stuartburn\, Stuartburn\, Manitoba\, Canada
CATEGORIES:Conference
ATTACH;FMTTYPE=image/jpeg:https://sharedlegacymb.ca/wp-content/uploads/2025/02/TREX-Prescribed-fire.jpg
END:VEVENT
END:VCALENDAR