BEGIN:VCALENDAR
VERSION:2.0
PRODID:-//Shared Legacy - ECPv6.0.6.2//NONSGML v1.0//EN
CALSCALE:GREGORIAN
METHOD:PUBLISH
X-ORIGINAL-URL:https://sharedlegacymb.ca
X-WR-CALDESC:Events for Shared Legacy
REFRESH-INTERVAL;VALUE=DURATION:PT1H
X-Robots-Tag:noindex
X-PUBLISHED-TTL:PT1H
BEGIN:VTIMEZONE
TZID:America/Winnipeg
BEGIN:DAYLIGHT
TZOFFSETFROM:-0600
TZOFFSETTO:-0500
TZNAME:CDT
DTSTART:20250309T080000
END:DAYLIGHT
BEGIN:STANDARD
TZOFFSETFROM:-0500
TZOFFSETTO:-0600
TZNAME:CST
DTSTART:20251102T070000
END:STANDARD
END:VTIMEZONE
BEGIN:VEVENT
DTSTART;TZID=America/Winnipeg:20250830T100000
DTEND;TZID=America/Winnipeg:20250830T120000
DTSTAMP:20260419T150444
CREATED:20250729T212018Z
LAST-MODIFIED:20250801T192916Z
UID:10000064-1756548000-1756555200@sharedlegacymb.ca
SUMMARY:Adventures with Nature Norm - Learning From Nature
DESCRIPTION:Join us on Adventures with Nature Norm as we learn the benefits of spending time in nature and how we can learn from the Tall Grass Prairie.  You will be provided a pair of binoculars and a set of walking sticks to use during the event (limited supplies). And it’s FREE! \nThis program has been sponsored by Southern Health-Sante Sud Public Health\, Healthy Living and Healthy Together Now funding. \n \n  \n  \n 
URL:https://sharedlegacymb.ca/event/adventures-with-nature-norm-learning-from-nature/
LOCATION:Weston Family Tall Grass Prairie Interpretive Centre\, Stuartburn\, Manitoba\, Canada
CATEGORIES:Outdoors Activity
ATTACH;FMTTYPE=image/jpeg:https://sharedlegacymb.ca/wp-content/uploads/2025/07/Nature-Norm_Aug25.jpg
ORGANIZER;CN="Norm%20Gregoire":MAILTO:info@sharedlegacymb.ca
END:VEVENT
END:VCALENDAR