BEGIN:VCALENDAR
VERSION:2.0
PRODID:-//Shared Legacy - ECPv6.0.6.2//NONSGML v1.0//EN
CALSCALE:GREGORIAN
METHOD:PUBLISH
X-WR-CALNAME:Shared Legacy
X-ORIGINAL-URL:https://sharedlegacymb.ca
X-WR-CALDESC:Events for Shared Legacy
REFRESH-INTERVAL;VALUE=DURATION:PT1H
X-Robots-Tag:noindex
X-PUBLISHED-TTL:PT1H
BEGIN:VTIMEZONE
TZID:America/Winnipeg
BEGIN:DAYLIGHT
TZOFFSETFROM:-0600
TZOFFSETTO:-0500
TZNAME:CDT
DTSTART:20250309T080000
END:DAYLIGHT
BEGIN:STANDARD
TZOFFSETFROM:-0500
TZOFFSETTO:-0600
TZNAME:CST
DTSTART:20251102T070000
END:STANDARD
END:VTIMEZONE
BEGIN:VEVENT
DTSTART;TZID=America/Winnipeg:20250809T100000
DTEND;TZID=America/Winnipeg:20250809T160000
DTSTAMP:20260419T150239
CREATED:20250801T195323Z
LAST-MODIFIED:20250801T195323Z
UID:10000065-1754733600-1754755200@sharedlegacymb.ca
SUMMARY:Prairie Day 2025
DESCRIPTION:Prairie Day is an exceptional chance for the public to experience the tall grass prairie in person with guided walks in the morning and presentations in the afternoon. Confirmed speakers and topics to be announced. \nDetails to be confirmed: \nGuided walks will be about an hour long. Meet at the Prairie Shore Interpretive Trail (6 km west of Gardenton on PR209). \nLunch will be hosted at Gardenton Park\, catered by their exceptional volunteers. Please bring a lawn chair or blanket to sit in the shade of the oak trees for the afternoon presentations. \nAdmission: $10.00 for adults\, free for children 12 years and under (cash only for admission and food)
URL:https://sharedlegacymb.ca/event/prairie-day-2025/
LOCATION:Prairie Shore Interpretive Trail\, Manitoba\, Canada
CATEGORIES:Outdoors Activity
ATTACH;FMTTYPE=image/jpeg:https://sharedlegacymb.ca/wp-content/uploads/2025/08/Prairie-Day-2025_TGP-big-blue-stem.jpg
GEO:49.07432;-96.76565
END:VEVENT
END:VCALENDAR