BEGIN:VCALENDAR
VERSION:2.0
PRODID:-//Shared Legacy - ECPv6.0.6.2//NONSGML v1.0//EN
CALSCALE:GREGORIAN
METHOD:PUBLISH
X-ORIGINAL-URL:https://sharedlegacymb.ca
X-WR-CALDESC:Events for Shared Legacy
REFRESH-INTERVAL;VALUE=DURATION:PT1H
X-Robots-Tag:noindex
X-PUBLISHED-TTL:PT1H
BEGIN:VTIMEZONE
TZID:America/Winnipeg
BEGIN:DAYLIGHT
TZOFFSETFROM:-0600
TZOFFSETTO:-0500
TZNAME:CDT
DTSTART:20230312T080000
END:DAYLIGHT
BEGIN:STANDARD
TZOFFSETFROM:-0500
TZOFFSETTO:-0600
TZNAME:CST
DTSTART:20231105T070000
END:STANDARD
END:VTIMEZONE
BEGIN:VEVENT
DTSTART;VALUE=DATE:20230202
DTEND;VALUE=DATE:20230203
DTSTAMP:20260421T151112
CREATED:20230119T205447Z
LAST-MODIFIED:20230119T210145Z
UID:10000006-1675296000-1675382399@sharedlegacymb.ca
SUMMARY:World Wetlands Day
DESCRIPTION:Did you know that the tall grass prairie ecosystem once stretched from near present-day Winnipeg all the way south to Texas? Today\, the largest intact blocks of tall grass prairie in Canada occur in the Tall Grass Prairie Natural Area in southeastern Manitoba. \nDid you also know that the area supports a diversity of habitat types\, including wet and dry tall grass prairie\, marshes and fens\, savannah and dense woodlands\, riparian (riverbank) areas and rivers? That means there are plenty of wetlands in the region to support species that depend on this ecosystem for survival. \nFor more information about the Tall Grass Prairie and the conservation work Nature Conservancy of Canada is undertaking in the region\, see NCC’s Tall Grass Prairie Natural Area Conservation Plan. \nLearn more >
URL:https://sharedlegacymb.ca/event/world-wetlands-day/
LOCATION:Manitoba
CATEGORIES:Appreciation Day
ATTACH;FMTTYPE=image/png:https://sharedlegacymb.ca/wp-content/uploads/2023/01/Website-Events-2023-4.png
END:VEVENT
BEGIN:VEVENT
DTSTART;TZID=America/Winnipeg:20230211T100000
DTEND;TZID=America/Winnipeg:20230211T140000
DTSTAMP:20260421T151112
CREATED:20230119T183602Z
LAST-MODIFIED:20230119T195026Z
UID:10000002-1676109600-1676124000@sharedlegacymb.ca
SUMMARY:Free Snowshoe Tour
DESCRIPTION:Who? Everyone is welcome!\nWhat? Beginner snowshoe tour focusing on learning how tall-grass prairie species survive harsh winters and searching for wildlife signs. If you have ever wanted to try snowshoeing\, now is your chance!\nWhere? Agassiz Interpretive Trail\, 7km west of Vita just off Highway 201 (turn north on Road 9N)\nWhen? Saturday\, February 11th\, 10am-12pm (weather dependent)\nWhy? The tall-grass prairie is an explosion of life in the summer months. During the harsh winter\, life must find a way to survive. There is much to discover! \nWhat to bring? Snowshoes will be provided but feel free to bring your own if you have them. Weather-appropriate clothing and boots. Anything else you may need for a 2km walk. \nPlease contact Norm to register\, or for more information on this free event.\nsarcommunityliaison@gmail.com\nCall or Text 204-408-6166
URL:https://sharedlegacymb.ca/event/free-snowshoe-tour/
LOCATION:Agassiz Interpretive Trail\, Stuartburn\, Manitoba\, Canada
CATEGORIES:Outdoors Activity
ATTACH;FMTTYPE=image/png:https://sharedlegacymb.ca/wp-content/uploads/2023/01/Website-Events-2023.png
ORGANIZER;CN="Norm%20Gregoire":MAILTO:info@sharedlegacymb.ca
END:VEVENT
BEGIN:VEVENT
DTSTART;VALUE=DATE:20230214
DTEND;VALUE=DATE:20230215
DTSTAMP:20260421T151112
CREATED:20230119T210922Z
LAST-MODIFIED:20230119T211548Z
UID:10000007-1676332800-1676419199@sharedlegacymb.ca
SUMMARY:Valentine's Day
DESCRIPTION:This Valentine’s Day\, show your family or friends some love by inviting them to enjoy the great outdoors with you. The Nature Conservancy of Canada’s Agassiz Interpretive Trail in Sunrise Corner is the perfect place to go. Once you’ve walked or snowshoed the trail\, drive to nearby Vita for a hot chocolate or enjoy one of the Valentine’s Day meal specials at the Vita Hotel. \nLearn more >
URL:https://sharedlegacymb.ca/event/valentines-day/
LOCATION:Manitoba
CATEGORIES:Appreciation Day
ATTACH;FMTTYPE=image/png:https://sharedlegacymb.ca/wp-content/uploads/2023/01/Website-Events-2023-5.png
END:VEVENT
BEGIN:VEVENT
DTSTART;VALUE=DATE:20230217
DTEND;VALUE=DATE:20230221
DTSTAMP:20260421T151112
CREATED:20230215T201026Z
LAST-MODIFIED:20230215T223356Z
UID:10000009-1676592000-1676937599@sharedlegacymb.ca
SUMMARY:Great Backyard Bird Count
DESCRIPTION:This weekend\, get out to one of your favourite places to watch birds\, be that your backyard\, the tall-grass prairie natural area\, Sandilands Provincial Forest or one of a thousand other incredible spots in Sunrise Corner. Then share what you saw and heard for a chance to win an pair of Zeiss binoculars. It takes as little as 15 minutes to participate: notice the birds around you\, identify them\, count them\, and submit your findings. Your observations will be combined with thousands of other people’s observations to help scientists better understand global bird populations before one of their annual migrations. \nLearn more about the various ways you can participate at the Great Backyard Bird Count website.
URL:https://sharedlegacymb.ca/event/great-backyard-bird-count/
LOCATION:Manitoba
CATEGORIES:Outdoors Activity
ATTACH;FMTTYPE=image/png:https://sharedlegacymb.ca/wp-content/uploads/2023/01/Website-Events-2023-2.png
END:VEVENT
BEGIN:VEVENT
DTSTART;VALUE=DATE:20230220
DTEND;VALUE=DATE:20230221
DTSTAMP:20260421T151112
CREATED:20230119T214337Z
LAST-MODIFIED:20230119T215113Z
UID:10000008-1676851200-1676937599@sharedlegacymb.ca
SUMMARY:Family Day
DESCRIPTION:There’s nothing like the middle of February in Manitoba to get outside and celebrate winter. This Family Day\, surprise your family with a day trip to Sunrise Corner in southeastern Manitoba. The Nature Conservancy of Canada’s Agassiz Interpretive Trail in Sunrise Corner is the perfect place to start with a walk or snowshoe along the trail. Then head to nearby Gardenton Park to experience the thrill of tobogganing overlooking the beautiful Roseau River. Wrap up your day with a drive to nearby Vita for a hot chocolate or enjoy a home-cooked meal at the Vita Hotel. \nLearn more >
URL:https://sharedlegacymb.ca/event/family-day/
LOCATION:Manitoba
CATEGORIES:Holiday
ATTACH;FMTTYPE=image/png:https://sharedlegacymb.ca/wp-content/uploads/2023/01/Website-Events-2023-6.png
END:VEVENT
END:VCALENDAR