BEGIN:VCALENDAR
VERSION:2.0
PRODID:-//Shared Legacy - ECPv6.0.6.2//NONSGML v1.0//EN
CALSCALE:GREGORIAN
METHOD:PUBLISH
X-ORIGINAL-URL:https://sharedlegacymb.ca
X-WR-CALDESC:Events for Shared Legacy
REFRESH-INTERVAL;VALUE=DURATION:PT1H
X-Robots-Tag:noindex
X-PUBLISHED-TTL:PT1H
BEGIN:VTIMEZONE
TZID:America/Winnipeg
BEGIN:DAYLIGHT
TZOFFSETFROM:-0600
TZOFFSETTO:-0500
TZNAME:CDT
DTSTART:20230312T080000
END:DAYLIGHT
BEGIN:STANDARD
TZOFFSETFROM:-0500
TZOFFSETTO:-0600
TZNAME:CST
DTSTART:20231105T070000
END:STANDARD
END:VTIMEZONE
BEGIN:VEVENT
DTSTART;VALUE=DATE:20230101
DTEND;VALUE=DATE:20230102
DTSTAMP:20260421T165259
CREATED:20230119T202108Z
LAST-MODIFIED:20230119T203438Z
UID:10000005-1672531200-1672617599@sharedlegacymb.ca
SUMMARY:New Year's Day
DESCRIPTION:Welcome to 2023! Here’s hoping that one of your New Year’s resolutions is to spend more time appreciating the wonder of nature and about what you can do to help conservation efforts right here in Manitoba’s endangered tall-grass prairie. \nLearn more >
URL:https://sharedlegacymb.ca/event/new-years-day/
LOCATION:Manitoba
CATEGORIES:Holiday
ATTACH;FMTTYPE=image/png:https://sharedlegacymb.ca/wp-content/uploads/2023/01/Website-Events-2023-3.png
END:VEVENT
BEGIN:VEVENT
DTSTART;VALUE=DATE:20230105
DTEND;VALUE=DATE:20230106
DTSTAMP:20260421T165259
CREATED:20230119T200058Z
LAST-MODIFIED:20230119T200347Z
UID:10000004-1672876800-1672963199@sharedlegacymb.ca
SUMMARY:National Bird Day
DESCRIPTION:There are so many incredible species of birds in the Manitoba tall-grass prairie and many of them are endangered. \nWhy not spend today learning more about what you can do to protect them? \nLearn more >
URL:https://sharedlegacymb.ca/event/national-bird-day/
LOCATION:Manitoba
CATEGORIES:Appreciation Day
ATTACH;FMTTYPE=image/png:https://sharedlegacymb.ca/wp-content/uploads/2023/01/Website-Events-2023-2.png
END:VEVENT
BEGIN:VEVENT
DTSTART;VALUE=DATE:20230121
DTEND;VALUE=DATE:20230122
DTSTAMP:20260421T165259
CREATED:20230119T194727Z
LAST-MODIFIED:20230119T194727Z
UID:10000003-1674259200-1674345599@sharedlegacymb.ca
SUMMARY:Squirrel Appreciation Day
DESCRIPTION:If you’re nuts about squirrels\, today’s a day for you to celebrate! \nLearn more >
URL:https://sharedlegacymb.ca/event/squirrel-appreciation-day/
LOCATION:Manitoba
CATEGORIES:Appreciation Day
ATTACH;FMTTYPE=image/png:https://sharedlegacymb.ca/wp-content/uploads/2023/01/Website-Events-2023-1.png
END:VEVENT
END:VCALENDAR