BEGIN:VCALENDAR
VERSION:2.0
PRODID:-//Shared Legacy - ECPv6.0.6.2//NONSGML v1.0//EN
CALSCALE:GREGORIAN
METHOD:PUBLISH
X-ORIGINAL-URL:https://sharedlegacymb.ca
X-WR-CALDESC:Events for Shared Legacy
REFRESH-INTERVAL;VALUE=DURATION:PT1H
X-Robots-Tag:noindex
X-PUBLISHED-TTL:PT1H
BEGIN:VTIMEZONE
TZID:America/Winnipeg
BEGIN:DAYLIGHT
TZOFFSETFROM:-0600
TZOFFSETTO:-0500
TZNAME:CDT
DTSTART:20250309T080000
END:DAYLIGHT
BEGIN:STANDARD
TZOFFSETFROM:-0500
TZOFFSETTO:-0600
TZNAME:CST
DTSTART:20251102T070000
END:STANDARD
END:VTIMEZONE
BEGIN:VEVENT
DTSTART;TZID=America/Winnipeg:20250607T150000
DTEND;TZID=America/Winnipeg:20250607T170000
DTSTAMP:20260419T130123
CREATED:20250526T172515Z
LAST-MODIFIED:20250604T232837Z
UID:10000061-1749308400-1749315600@sharedlegacymb.ca
SUMMARY:Adventures with Nature Norm - CANCELLED
DESCRIPTION:EVENT CANCELLED. Due to the wildfire risk across Manitoba\, all trails on the tall-grass prairie have been closed until further notice. As a result\, the Nature Norm tour has been cancelled. The situation is being closely monitored to reopen the trails as soon as it is safe to do so.  \nJoin us on Adventures with Nature Norm for a morning of celebrating lady’s slippers in the tall-grass prairie while enjoying the great outdoors. You will be provided a pair of binoculars and a set of walking sticks to use during the event (limited supplies). And it’s FREE! \nThis program has been sponsored by Southern Health-Sante Sud Public Health\, Healthy Living and Healthy Together Now funding. \n \n  \n  \n 
URL:https://sharedlegacymb.ca/event/adventures-with-nature-norm-ladys-slippers/
LOCATION:Prairie Shore Interpretive Trail\, Manitoba\, Canada
CATEGORIES:Outdoors Activity
ATTACH;FMTTYPE=image/jpeg:https://sharedlegacymb.ca/wp-content/uploads/2025/05/Nature-Norm_June-2025-3.jpg
ORGANIZER;CN="Norm%20Gregoire":MAILTO:info@sharedlegacymb.ca
GEO:49.07432;-96.76565
END:VEVENT
BEGIN:VEVENT
DTSTART;TZID=America/Winnipeg:20250628T120000
DTEND;TZID=America/Winnipeg:20250628T180000
DTSTAMP:20260419T130123
CREATED:20250625T230649Z
LAST-MODIFIED:20250625T230802Z
UID:10000063-1751112000-1751133600@sharedlegacymb.ca
SUMMARY:Shared Legacy at Vita Canada Day
DESCRIPTION:Shared Legacy Partnership is excited to be participating in the Vita Canada Day festivities on both Saturday\, June 28 and Sunday\, June 29\, 2025. \nSATURDAY\, JUNE 28\, 2025 \nnoon-6 pm   > We’ll have our booth up at the vendor market to answer questions and provide conservation and tourism information – enter to win a Shared Legacy prize pack \n1 pm & 4 pm  > Join one of our two free guided tours of the tall-grass prairie and marvel at the spectacular western prairie fringed orchid – the only place in Canada you can see them \n \nSUNDAY\, JUNE 29\, 2025 \n10 am   > Look for the Shared Legacy float in the parade – our flatbed trailer is being pulled by the Nature Conservancy of Canada truck
URL:https://sharedlegacymb.ca/event/shared-legacy-at-vita-canada-day-2/
LOCATION:Vita\, Manitoba
CATEGORIES:Outdoors Activity
ATTACH;FMTTYPE=image/jpeg:https://sharedlegacymb.ca/wp-content/uploads/2023/06/Banner-2.c-2-scaled.jpg
ORGANIZER;CN="Shared%20Legacy%20Partnership":MAILTO:info@sharedlegacymb.ca
END:VEVENT
END:VCALENDAR