BEGIN:VCALENDAR
VERSION:2.0
PRODID:-//Shared Legacy - ECPv6.0.6.2//NONSGML v1.0//EN
CALSCALE:GREGORIAN
METHOD:PUBLISH
X-ORIGINAL-URL:https://sharedlegacymb.ca
X-WR-CALDESC:Events for Shared Legacy
REFRESH-INTERVAL;VALUE=DURATION:PT1H
X-Robots-Tag:noindex
X-PUBLISHED-TTL:PT1H
BEGIN:VTIMEZONE
TZID:America/Winnipeg
BEGIN:DAYLIGHT
TZOFFSETFROM:-0600
TZOFFSETTO:-0500
TZNAME:CDT
DTSTART:20230312T080000
END:DAYLIGHT
BEGIN:STANDARD
TZOFFSETFROM:-0500
TZOFFSETTO:-0600
TZNAME:CST
DTSTART:20231105T070000
END:STANDARD
END:VTIMEZONE
BEGIN:VEVENT
DTSTART;TZID=America/Winnipeg:20231116T183000
DTEND;TZID=America/Winnipeg:20231116T200000
DTSTAMP:20260419T184428
CREATED:20231107T223510Z
LAST-MODIFIED:20231107T224756Z
UID:10000028-1700159400-1700164800@sharedlegacymb.ca
SUMMARY:Community Celebration
DESCRIPTION:All are welcome to an open house for a tour of the Weston Family Tall Grass Prairie Interpretive Centre\, Q & A with Shared Legacy partners\, and to connect with members of our community who have a passion for the tall-grass prairie. \nThursday\, November 16th 6:30 pm – 8 pm \nDirections:\nFrom Vita\, travel west 13 km on Highway 201\nTurn north on Road 32 East and follow the signs to the centre \nFor more information\, contact Norm Gregoire at info@sharedlegacymb.ca or 204 408 6166
URL:https://sharedlegacymb.ca/event/community-celebration/
LOCATION:Weston Family Tall Grass Prairie Interpretive Centre\, Stuartburn\, Manitoba\, Canada
CATEGORIES:Indoor Event
ATTACH;FMTTYPE=image/jpeg:https://sharedlegacymb.ca/wp-content/uploads/2023/11/Community-Celebration-Nov23-1.jpg
ORGANIZER;CN="Shared%20Legacy%20Partnership":MAILTO:info@sharedlegacymb.ca
END:VEVENT
END:VCALENDAR