BEGIN:VCALENDAR
VERSION:2.0
PRODID:-//Shared Legacy - ECPv6.0.6.2//NONSGML v1.0//EN
CALSCALE:GREGORIAN
METHOD:PUBLISH
X-WR-CALNAME:Shared Legacy
X-ORIGINAL-URL:https://sharedlegacymb.ca
X-WR-CALDESC:Events for Shared Legacy
REFRESH-INTERVAL;VALUE=DURATION:PT1H
X-Robots-Tag:noindex
X-PUBLISHED-TTL:PT1H
BEGIN:VTIMEZONE
TZID:America/Winnipeg
BEGIN:DAYLIGHT
TZOFFSETFROM:-0600
TZOFFSETTO:-0500
TZNAME:CDT
DTSTART:20260308T080000
END:DAYLIGHT
BEGIN:STANDARD
TZOFFSETFROM:-0500
TZOFFSETTO:-0600
TZNAME:CST
DTSTART:20261101T070000
END:STANDARD
END:VTIMEZONE
BEGIN:VEVENT
DTSTART;TZID=America/Winnipeg:20260228T100000
DTEND;TZID=America/Winnipeg:20260228T120000
DTSTAMP:20260422T175452
CREATED:20260128T175109Z
LAST-MODIFIED:20260128T175215Z
UID:10000071-1772272800-1772280000@sharedlegacymb.ca
SUMMARY:Adventures with Nature Norm - Wild Cats
DESCRIPTION:Join us on Adventures with Nature Norm as we learn more about the wild cats of Manitoba. You will be provided a pair of binoculars\, a set of walking sticks and snowshoes (if necessary) to use during the event (limited supplies). Sizes of snowshoes are limited\, so reserve yours early. And it’s all FREE! \nThis program has been sponsored by Southern Health-Sante Sud Public Health\, Healthy Living and Healthy Together Now funding.
URL:https://sharedlegacymb.ca/event/adventures-with-nature-norm-wild-cats/
LOCATION:Weston Family Tall Grass Prairie Interpretive Centre\, Stuartburn\, Manitoba\, Canada
CATEGORIES:Outdoors Activity
ATTACH;FMTTYPE=image/jpeg:https://sharedlegacymb.ca/wp-content/uploads/2026/01/NatureNorm_Feb2026.jpg
ORGANIZER;CN="Norm%20Gregoire":MAILTO:info@sharedlegacymb.ca
END:VEVENT
BEGIN:VEVENT
DTSTART;TZID=America/Winnipeg:20260328T100000
DTEND;TZID=America/Winnipeg:20260328T120000
DTSTAMP:20260422T175452
CREATED:20260308T172136Z
LAST-MODIFIED:20260318T214016Z
UID:10000072-1774692000-1774699200@sharedlegacymb.ca
SUMMARY:Adventures with Nature Norm - Return of Spring
DESCRIPTION:Join us on Adventures with Nature Norm as we celebrate the return of spring in the tall-grass prairie. You will be provided a pair of binoculars\, a set of walking sticks and snowshoes (if necessary) to use during the event (limited supplies). Sizes of snowshoes are limited\, so reserve yours early. And it’s all FREE! \nThis program has been sponsored by Southern Health-Sante Sud Public Health\, Healthy Living and Healthy Together Now funding.
URL:https://sharedlegacymb.ca/event/adventures-with-nature-norm-return-spring/
LOCATION:Weston Family Tall Grass Prairie Interpretive Centre\, Stuartburn\, Manitoba\, Canada
CATEGORIES:Outdoors Activity
ATTACH;FMTTYPE=image/jpeg:https://sharedlegacymb.ca/wp-content/uploads/2026/03/NatureNorm_Mar26.jpg
ORGANIZER;CN="Norm%20Gregoire":MAILTO:info@sharedlegacymb.ca
END:VEVENT
BEGIN:VEVENT
DTSTART;TZID=America/Winnipeg:20260425T100000
DTEND;TZID=America/Winnipeg:20260425T120000
DTSTAMP:20260422T175452
CREATED:20260401T163040Z
LAST-MODIFIED:20260401T163436Z
UID:10000073-1777111200-1777118400@sharedlegacymb.ca
SUMMARY:Adventures with Nature Norm - Rodents of the Tall-Grass Prairie
DESCRIPTION:Join us on Adventures with Nature Norm as we learn about the rodents of the tall-grass prairie. You will be provided a pair of binoculars and a set of walking sticks to use during the event (limited supplies). And it’s all FREE! \nThis program has been sponsored by Southern Health-Sante Sud Public Health\, Healthy Living and Healthy Together Now funding.
URL:https://sharedlegacymb.ca/event/adventures-with-nature-norm-rodents/
LOCATION:Weston Family Tall Grass Prairie Interpretive Centre\, Stuartburn\, Manitoba\, Canada
CATEGORIES:Outdoors Activity
ATTACH;FMTTYPE=image/jpeg:https://sharedlegacymb.ca/wp-content/uploads/2026/04/Website-Events-2023-1.jpg
ORGANIZER;CN="Norm%20Gregoire":MAILTO:info@sharedlegacymb.ca
END:VEVENT
END:VCALENDAR